BEGIN:VCALENDAR
VERSION:2.0
CALSCALE:GREGORIAN
PRODID:-//SabreDAV//SabreDAV 4.6.0//EN
X-WR-CALNAME:Volleyballclub Baustetten e. V.
X-APPLE-CALENDAR-COLOR:#3366ff
BEGIN:VTIMEZONE
TZID:Europe/Berlin
BEGIN:STANDARD
TZNAME:CET
TZOFFSETFROM:+0000
TZOFFSETTO:+0100
DTSTART:19791231T230000
RDATE:19791231T230000
END:STANDARD
BEGIN:STANDARD
TZNAME:CET
TZOFFSETFROM:+0200
TZOFFSETTO:+0100
DTSTART:19971026T030000
RRULE:FREQ=YEARLY;BYDAY=-1SU;BYMONTH=10
END:STANDARD
BEGIN:STANDARD
TZNAME:CET
TZOFFSETFROM:+0200
TZOFFSETTO:+0100
DTSTART:19800928T030000
RRULE:FREQ=YEARLY;UNTIL=19961027T030000;BYDAY=-1SU;BYMONTH=9
RDATE:19950924T030000
END:STANDARD
BEGIN:DAYLIGHT
TZNAME:CEST
TZOFFSETFROM:+0100
TZOFFSETTO:+0200
DTSTART:19810329T020000
RRULE:FREQ=YEARLY;BYDAY=-1SU;BYMONTH=3
END:DAYLIGHT
BEGIN:DAYLIGHT
TZNAME:CEST
TZOFFSETFROM:+0100
TZOFFSETTO:+0200
DTSTART:19800406T020000
RDATE:19800406T020000
END:DAYLIGHT
END:VTIMEZONE
BEGIN:VEVENT
DTSTAMP:20231023T193545Z
CREATED:20231023T193545Z
UID:2ADDBF11-DC8D-4E5E-AA4D-CC9EF8D2E4B0
LAST-MODIFIED:20231023T193545Z
SUMMARY:Jahreshauptversammlung
DTSTART;TZID=Europe/Berlin:20240606T200000
DTEND;TZID=Europe/Berlin:20240606T230000
TRANSP:OPAQUE
END:VEVENT
BEGIN:VEVENT
DTSTAMP:20231116T110704Z
CREATED:20231023T194932Z
UID:5ABC3BCA-93F0-443D-8144-028B9B6C4C1F
SEQUENCE:1
LAST-MODIFIED:20231116T110704Z
SUMMARY:Hütte
DTSTART;VALUE=DATE:20240719
DTEND;VALUE=DATE:20240722
TRANSP:OPAQUE
END:VEVENT
BEGIN:VEVENT
DTSTAMP:20231023T195128Z
CREATED:20231023T195128Z
UID:52016232-B185-4FE4-882B-3D2025448CA1
LAST-MODIFIED:20231023T195128Z
SUMMARY:Gerümpelturnier
DTSTART;VALUE=DATE:20240622
TRANSP:OPAQUE
END:VEVENT
BEGIN:VEVENT
DTSTAMP:20231023T200425Z
CREATED:20231023T200425Z
UID:4D782B93-74A7-4724-9362-41FCDD2F4045
LAST-MODIFIED:20231023T200425Z
SUMMARY:Brunnenfest
DTSTART;VALUE=DATE:20240908
TRANSP:OPAQUE
END:VEVENT
BEGIN:VEVENT
UID:6af020d30ad2004cf7bbdad14e888b7267549f39
DTSTAMP:20240406T105844Z
DTSTART;VALUE=DATE:20240608
DTEND;VALUE=DATE:20240609
SEQUENCE:3
SUMMARY:A-Turniere Damen/Herren
TRANSP:OPAQUE
CLASS:PUBLIC
CREATED:20240406T113914Z
LAST-MODIFIED:20240406T114108Z
END:VEVENT
BEGIN:VEVENT
DTSTAMP:20240416T195520Z
UID:de1d46dc-3349-4f8f-8d3e-8338446a9610
SEQUENCE:1
SUMMARY:Internes Beachturnier?
DTSTART;VALUE=DATE:20240713
DTEND;VALUE=DATE:20240714
TRANSP:TRANSPARENT
END:VEVENT
BEGIN:VEVENT
UID:7ee55068ec4526c095dab4f07a9539db2f605103
DTSTAMP:20240429T131029Z
DTSTART;VALUE=DATE:20241213
DTEND;VALUE=DATE:20241214
SEQUENCE:2
SUMMARY:Weihnachtsmarkt
TRANSP:OPAQUE
CLASS:PUBLIC
CREATED:20240429T133920Z
LAST-MODIFIED:20240429T133920Z
END:VEVENT
BEGIN:VEVENT
UID:8388e32027bcb76c437f2970095c5337c431047c
DTSTAMP:20240430T061012Z
DTSTART;VALUE=DATE:20240502
DTEND;VALUE=DATE:20240503
SEQUENCE:2
SUMMARY:Beachgrillen
TRANSP:OPAQUE
CLASS:PUBLIC
CREATED:20240430T065745Z
LAST-MODIFIED:20240430T065745Z
END:VEVENT
BEGIN:VEVENT
UID:59aa8c8d24ec5de3781dcde46ab12db07b5a6fc7
DTSTAMP:20240430T061012Z
DTSTART;VALUE=DATE;TZID=Europe/Berlin:20240516
DTEND;VALUE=DATE;TZID=Europe/Berlin:20240517
SEQUENCE:2
SUMMARY:Beachgrillen
TRANSP:OPAQUE
CLASS:PUBLIC
CREATED:20240430T065745Z
LAST-MODIFIED:20240430T065745Z
END:VEVENT
BEGIN:VEVENT
UID:392faf1356dfd6794bb4506d35c84398bb9384de
DTSTAMP:20240430T061012Z
DTSTART;VALUE=DATE;TZID=Europe/Berlin:20240529
DTEND;VALUE=DATE;TZID=Europe/Berlin:20240530
SEQUENCE:2
SUMMARY:Beachgrillen
TRANSP:OPAQUE
CLASS:PUBLIC
CREATED:20240430T065745Z
LAST-MODIFIED:20240430T065745Z
END:VEVENT
BEGIN:VEVENT
UID:92c34398e5d0e360682edb86fa3860db56281191
DTSTAMP:20240430T061012Z
DTSTART;VALUE=DATE;TZID=Europe/Berlin:20240611
DTEND;VALUE=DATE;TZID=Europe/Berlin:20240612
SEQUENCE:2
SUMMARY:Beachgrillen
TRANSP:OPAQUE
CLASS:PUBLIC
CREATED:20240430T065745Z
LAST-MODIFIED:20240430T065745Z
END:VEVENT
BEGIN:VEVENT
UID:f437264865fec687a9f9ff0aff5986582abba884
DTSTAMP:20240430T061012Z
DTSTART;VALUE=DATE;TZID=Europe/Berlin:20240625
DTEND;VALUE=DATE;TZID=Europe/Berlin:20240626
SEQUENCE:2
SUMMARY:Beachgrillen
TRANSP:OPAQUE
CLASS:PUBLIC
CREATED:20240430T065745Z
LAST-MODIFIED:20240430T065745Z
END:VEVENT
BEGIN:VEVENT
UID:f5219a7d07bc00cd4290537cb56bcc56ce88d840
DTSTAMP:20240430T061012Z
DTSTART;VALUE=DATE;TZID=Europe/Berlin:20240708
DTEND;VALUE=DATE;TZID=Europe/Berlin:20240709
SEQUENCE:2
SUMMARY:Beachgrillen
TRANSP:OPAQUE
CLASS:PUBLIC
CREATED:20240430T065745Z
LAST-MODIFIED:20240430T065745Z
END:VEVENT
BEGIN:VEVENT
UID:b07b45a2509bbdff32c29c767fcd71649c63c4dc
DTSTAMP:20240430T061012Z
DTSTART;VALUE=DATE;TZID=Europe/Berlin:20240725
DTEND;VALUE=DATE;TZID=Europe/Berlin:20240726
SEQUENCE:2
SUMMARY:Beachgrillen
TRANSP:OPAQUE
CLASS:PUBLIC
CREATED:20240430T065745Z
LAST-MODIFIED:20240430T065745Z
END:VEVENT
BEGIN:VEVENT
UID:5566ee4d0fb0d90790c0c38c0519a50f244ffb8a
DTSTAMP:20240430T061012Z
DTSTART;VALUE=DATE;TZID=Europe/Berlin:20240807
DTEND;VALUE=DATE;TZID=Europe/Berlin:20240808
SEQUENCE:2
SUMMARY:Beachgrillen
TRANSP:OPAQUE
CLASS:PUBLIC
CREATED:20240430T065745Z
LAST-MODIFIED:20240430T065745Z
END:VEVENT
BEGIN:VEVENT
DTSTAMP:20240516T232619Z
UID:c2078499-9e57-4f59-9638-22d8d54871c6
SUMMARY:Putzdienst Beach: Damen 2
DTSTART;VALUE=DATE:20240523
DTEND;VALUE=DATE:20240524
TRANSP:TRANSPARENT
END:VEVENT
BEGIN:VEVENT
DTSTAMP:20240516T232619Z
UID:a0aedaf0-9cc1-4039-9d2c-aecdb815917e
SUMMARY:Putzdienst Beach: Herren 1
DTSTART;VALUE=DATE:20240606
DTEND;VALUE=DATE:20240607
TRANSP:TRANSPARENT
END:VEVENT
BEGIN:VEVENT
DTSTAMP:20240516T232619Z
UID:2ff4042b-afb1-48ff-9c8f-8064f515947d
SUMMARY:Putzdienst Beach: Damen 1
DTSTART;VALUE=DATE:20240619
DTEND;VALUE=DATE:20240620
TRANSP:TRANSPARENT
END:VEVENT
BEGIN:VEVENT
DTSTAMP:20240516T232620Z
UID:bd904998-8ebe-412c-81fa-39adfe6a474f
SUMMARY:Putzdienst Beach: Herren 2
DTSTART;VALUE=DATE:20240711
DTEND;VALUE=DATE:20240712
TRANSP:TRANSPARENT
END:VEVENT
BEGIN:VEVENT
DTSTAMP:20240516T232620Z
UID:e0f737dc-0ae2-46a9-a2aa-67421516dd99
SUMMARY:Putzdienst Beach: Damen 3
DTSTART;VALUE=DATE:20240725
DTEND;VALUE=DATE:20240726
TRANSP:TRANSPARENT
END:VEVENT
BEGIN:VEVENT
UID:15faef914b7d895fddac00ef51fde8f2b258f9b6
DTSTAMP:20240610T180734Z
DTSTART;VALUE=DATE:20240706
DTEND;VALUE=DATE:20240708
SEQUENCE:2
SUMMARY:Beachcamp
TRANSP:OPAQUE
CLASS:PUBLIC
CREATED:20240610T184800Z
LAST-MODIFIED:20240610T184800Z
END:VEVENT
BEGIN:VEVENT
DTSTAMP:20240616T174648Z
UID:95861933-af3a-44b1-8b4c-c766f6d0d66e
SEQUENCE:1
SUMMARY:Sportlerehrung Herren 1 ab 18:00 im Kulturhaus
DTSTART;VALUE=DATE:20241018
DTEND;VALUE=DATE:20241019
END:VEVENT
BEGIN:VEVENT
DTSTAMP:20240906T132540Z
UID:5eaff771-a19d-4a0b-a138-b3c3d7cdd915
SUMMARY:Vorbereitungsturnier Damen
DTSTART;VALUE=DATE:20240914
DTEND;VALUE=DATE:20240915
TRANSP:TRANSPARENT
END:VEVENT
BEGIN:VEVENT
DTSTAMP:20240906T132540Z
UID:849d943f-3865-4d13-8a30-889300538e9f
SUMMARY:Vorbereitungsturnier Herren
DTSTART;VALUE=DATE:20240915
DTEND;VALUE=DATE:20240916
TRANSP:TRANSPARENT
END:VEVENT
BEGIN:VEVENT
DTSTAMP:20241007T201543Z
UID:1c2a083d-f9a7-445c-9011-46c8f43f3468
SUMMARY:Nikolausturnier
DTSTART;VALUE=DATE:20250105
DTEND;VALUE=DATE:20250106
TRANSP:TRANSPARENT
END:VEVENT
BEGIN:VEVENT
DTSTAMP:20241007T201812Z
UID:35b12bd9-b1b5-463c-9760-da588220f982
SUMMARY:Jahreshauptversammlung
DTSTART;VALUE=DATE:20250605
DTEND;VALUE=DATE:20250606
TRANSP:TRANSPARENT
END:VEVENT
BEGIN:VEVENT
DTSTAMP:20241007T202528Z
UID:c026de97-ad41-441e-a57d-84ce260ce89f
SUMMARY:Freizeitwochenende
DTSTART;VALUE=DATE:20250725
DTEND;VALUE=DATE:20250728
TRANSP:TRANSPARENT
END:VEVENT
BEGIN:VEVENT
DTSTAMP:20241007T202753Z
UID:a792c65d-c985-4449-b245-b3c211314f4e
SUMMARY:Vorbereitungsturniere
DTSTART;VALUE=DATE:20250920
DTEND;VALUE=DATE:20250922
TRANSP:TRANSPARENT
END:VEVENT
BEGIN:VEVENT
DTSTAMP:20241019T134229Z
UID:6b3a3c07-ba77-445e-8a15-70cb66993efc
SUMMARY:Klausurtagung
DTSTART;VALUE=DATE:20250425
DTEND;VALUE=DATE:20250428
TRANSP:TRANSPARENT
END:VEVENT
BEGIN:VEVENT
DTSTAMP:20250605T054458Z
UID:277a01e7-0026-4c10-8b59-1d562b8193f5
SEQUENCE:1
SUMMARY:Rottum-Rookies-Turnier
DTSTART;VALUE=DATE:20250705
DTEND;VALUE=DATE:20250706
TRANSP:TRANSPARENT
END:VEVENT
BEGIN:VEVENT
DTSTAMP:20241019T134319Z
UID:b8cb67ce-7114-45de-9bfd-bc68dbc3f1fc
SUMMARY:Brunnenfest
DTSTART;VALUE=DATE:20250914
DTEND;VALUE=DATE:20250915
TRANSP:TRANSPARENT
END:VEVENT
BEGIN:VEVENT
DTSTAMP:20250307T185715Z
UID:c808051e-8eaa-456f-abb7-0569b075d40d
SUMMARY:Saisonabschluss
DTSTART;VALUE=DATE:20250411
DTEND;VALUE=DATE:20250412
TRANSP:TRANSPARENT
END:VEVENT
BEGIN:VEVENT
DTSTAMP:20250401T204540Z
UID:54efd9fd-3d13-4822-8f5c-c9558575bf54
SUMMARY:Relegation Herren 1
DTSTART;VALUE=DATE:20250405
DTEND;VALUE=DATE:20250406
TRANSP:TRANSPARENT
END:VEVENT
BEGIN:VEVENT
DTSTAMP:20250605T054406Z
UID:29734541-ece0-4a11-b0dc-1df6d5ff76f9
SUMMARY:Gerümpelturnier
DTSTART;VALUE=DATE:20250719
DTEND;VALUE=DATE:20250720
TRANSP:TRANSPARENT
END:VEVENT
BEGIN:VEVENT
DTSTAMP:20250605T054857Z
UID:35c6eb70-fd74-4ffb-8947-f9b6617df040
SEQUENCE:1
SUMMARY:Beachvolleyball A-Turniere
DTSTART;VALUE=DATE:20250607
DTEND;VALUE=DATE:20250608
TRANSP:TRANSPARENT
END:VEVENT
BEGIN:VEVENT
DTSTAMP:20250605T054552Z
UID:5dc19728-91e5-47f9-bb6a-66943856b575
SUMMARY:Beachbrunch meets Internes Turnier
DTSTART;VALUE=DATE:20250706
DTEND;VALUE=DATE:20250707
TRANSP:TRANSPARENT
END:VEVENT
BEGIN:VEVENT
DTSTAMP:20250605T180408Z
UID:416d6c74-f566-4b20-befb-65968da15bb9
SUMMARY:Beachcamp
DTSTART;VALUE=DATE:20250712
DTEND;VALUE=DATE:20250714
TRANSP:TRANSPARENT
END:VEVENT
BEGIN:VEVENT
DTSTAMP:20250611T104622Z
UID:fe945f39-8e44-418b-9992-70ba3a7ff996
SUMMARY:Beach-Grillen
DTSTART;VALUE=DATE:20250528
DTEND;VALUE=DATE:20250529
TRANSP:TRANSPARENT
END:VEVENT
BEGIN:VEVENT
DTSTAMP:20250611T104622Z
UID:559f3f5e-e121-40e9-8282-3525c1f897a0
SUMMARY:Beach-Grillen
DTSTART;VALUE=DATE:20250703
DTEND;VALUE=DATE:20250704
TRANSP:TRANSPARENT
END:VEVENT
BEGIN:VEVENT
DTSTAMP:20250611T104622Z
UID:af7ae155-7538-4835-af3f-1af743c27ca7
SUMMARY:Beach-Grillen
DTSTART;VALUE=DATE:20250617
DTEND;VALUE=DATE:20250618
END:VEVENT
BEGIN:VEVENT
DTSTAMP:20250611T104711Z
UID:2692039e-cb14-4948-9d8c-d32179b1e8f2
SUMMARY:Beach-Grillen
DTSTART;VALUE=DATE:20250731
DTEND;VALUE=DATE:20250801
TRANSP:TRANSPARENT
END:VEVENT
BEGIN:VEVENT
DTSTAMP:20250611T104711Z
UID:f4dfa938-2840-4e9a-8089-22d3e309d3b1
SUMMARY:Beach-Grillen
DTSTART;VALUE=DATE:20250715
DTEND;VALUE=DATE:20250716
TRANSP:TRANSPARENT
END:VEVENT
BEGIN:VEVENT
DTSTAMP:20250611T104811Z
UID:4da1d361-0a1a-4292-9a2a-bcc2d9f74b51
SUMMARY:Beach-Grillen
DTSTART;VALUE=DATE:20250814
DTEND;VALUE=DATE:20250815
TRANSP:TRANSPARENT
END:VEVENT
BEGIN:VEVENT
DTSTAMP:20250922T211433Z
UID:4cb078e8-5aa5-42da-baf3-d21ef44aea9e
SUMMARY:Neujahrsturnier
DTSTART;VALUE=DATE:20260103
DTEND;VALUE=DATE:20260104
TRANSP:TRANSPARENT
END:VEVENT
BEGIN:VEVENT
DTSTAMP:20250922T211433Z
UID:9e5d4144-5877-4580-ad34-3591611cd3b3
SUMMARY:Jahreshauptversammlung
DTSTART;VALUE=DATE:20260611
DTEND;VALUE=DATE:20260612
TRANSP:TRANSPARENT
END:VEVENT
BEGIN:VEVENT
DTSTAMP:20250922T212234Z
UID:8731cea1-efd1-409d-9a12-1ee8b65c222b
SUMMARY:Vorbereitungsturnier Damen
DTSTART;VALUE=DATE:20260919
DTEND;VALUE=DATE:20260920
TRANSP:TRANSPARENT
END:VEVENT
BEGIN:VEVENT
DTSTAMP:20250922T212234Z
UID:78163f17-81da-46d0-9a97-54e5ee67b69b
SUMMARY:Vorbereitungsturnier Herren
DTSTART;VALUE=DATE:20260920
DTEND;VALUE=DATE:20260921
TRANSP:TRANSPARENT
END:VEVENT
BEGIN:VEVENT
DTSTAMP:20260209T202454Z
UID:b6f552c9-62e9-4e6b-b1e8-905aab3b1746
SUMMARY:Jubiläumsfeier 40 Jahre Volleyball Baustetten
DTSTART;VALUE=DATE:20260425
DTEND;VALUE=DATE:20260426
TRANSP:TRANSPARENT
END:VEVENT
BEGIN:VEVENT
DTSTAMP:20260209T202454Z
UID:e0f1efbf-28e1-4772-92a9-c6ce4cee44a1
SUMMARY:1.100 Jahrfeier Gemeinde Baustetten
DTSTART;VALUE=DATE:20260418
DTEND;VALUE=DATE:20260419
TRANSP:TRANSPARENT
END:VEVENT
BEGIN:VEVENT
DTSTAMP:20260209T202543Z
UID:cd635c04-0eaf-4646-99bb-536e9541c326
SUMMARY:Ausflug German Beach Tour München
DTSTART;VALUE=DATE:20260711
DTEND;VALUE=DATE:20260712
TRANSP:TRANSPARENT
END:VEVENT
BEGIN:VEVENT
DTSTAMP:20260209T202543Z
UID:40bc2467-9c8a-439c-b18e-f4e616bbcf22
SUMMARY:Jubiläumsturnier Beachvolleyball A-Turnier
DTSTART;VALUE=DATE:20260606
DTEND;VALUE=DATE:20260608
TRANSP:TRANSPARENT
END:VEVENT
BEGIN:VEVENT
DTSTAMP:20260209T202615Z
UID:3a1617de-7e4f-4339-b5e2-5da2f3c56ee3
SUMMARY:Brunnenfest
DTSTART;VALUE=DATE:20260913
DTEND;VALUE=DATE:20260914
TRANSP:TRANSPARENT
END:VEVENT
BEGIN:VEVENT
DTSTAMP:20260218T161351Z
UID:bc85e7fb-a486-4318-a2cf-30f3212ce2e9
SUMMARY:Gerümpelturnier
DTSTART;VALUE=DATE:20260620
DTEND;VALUE=DATE:20260621
TRANSP:TRANSPARENT
END:VEVENT
BEGIN:VEVENT
DTSTAMP:20260218T161351Z
UID:98881660-ecc8-4d9e-b614-a16da9da55ee
SUMMARY:Rottum Rookies Turnier
DTSTART;VALUE=DATE:20260705
DTEND;VALUE=DATE:20260706
TRANSP:TRANSPARENT
END:VEVENT
BEGIN:VEVENT
DTSTAMP:20260416T185130Z
UID:ce8d48f1-58a4-48dc-bebb-2955678d6723
SUMMARY:Arbeitseinsatz Beachfeld
DTSTART;VALUE=DATE:20260424
DTEND;VALUE=DATE:20260425
TRANSP:TRANSPARENT
END:VEVENT
BEGIN:VEVENT
DTSTAMP:20260416T202749Z
UID:a1d4c7e0-4f14-4580-8175-860ebc201d06
SUMMARY:Internes "After Work" Beachturnier
DTSTART;VALUE=DATE:20260717
DTEND;VALUE=DATE:20260718
TRANSP:TRANSPARENT
END:VEVENT
BEGIN:VEVENT
DTSTAMP:20260416T202825Z
UID:dd192072-d0e5-4914-9392-c79e1f3eba8f
SUMMARY:Jugendbeachcamp
DTSTART;VALUE=DATE:20260725
DTEND;VALUE=DATE:20260727
TRANSP:TRANSPARENT
END:VEVENT
BEGIN:VEVENT
DTSTAMP:20260416T211553Z
UID:82e0541a-bdf9-4f55-99ec-ea20d2b8d6ff
SUMMARY:VBAO-Radeln
DTSTART;VALUE=DATE:20260614
DTEND;VALUE=DATE:20260615
TRANSP:TRANSPARENT
END:VEVENT
END:VCALENDAR
