BEGIN:VCALENDAR
VERSION:2.0
CALSCALE:GREGORIAN
PRODID:-//SabreDAV//SabreDAV 4.6.0//EN
X-WR-CALNAME:Herren 2 - Training
X-APPLE-CALENDAR-COLOR:#28BCA3
BEGIN:VTIMEZONE
TZID:Europe/Berlin
BEGIN:STANDARD
TZNAME:CET
TZOFFSETFROM:+0200
TZOFFSETTO:+0100
DTSTART:19961027T030000
RRULE:FREQ=YEARLY;BYMONTH=10;BYDAY=-1SU
END:STANDARD
BEGIN:DAYLIGHT
TZNAME:CEST
TZOFFSETFROM:+0100
TZOFFSETTO:+0200
DTSTART:19810329T020000
RRULE:FREQ=YEARLY;BYMONTH=3;BYDAY=-1SU
END:DAYLIGHT
END:VTIMEZONE
BEGIN:VEVENT
DTSTAMP:20251224T122651Z
UID:e3955d86-ed30-407a-a2c6-d34490719557
SUMMARY:Training - Herren 2
LOCATION:Baustetten\, Mehrzweckhalle
DTSTART;TZID=Europe/Berlin:20250917T184500
DTEND;TZID=Europe/Berlin:20250917T201500
RRULE:FREQ=WEEKLY
SEQUENCE:2
CREATED:20250904T214318Z
EXDATE;TZID=Europe/Berlin:20251224T184500
EXDATE;TZID=Europe/Berlin:20251231T184500
END:VEVENT
BEGIN:VEVENT
DTSTAMP:20251224T122651Z
UID:e3955d86-ed30-407a-a2c6-d34490719557
RECURRENCE-ID;TZID=Europe/Berlin:20251001T184500
SUMMARY:Training - Herren 2
DTSTART;TZID=Europe/Berlin:20251001T201500
DTEND;TZID=Europe/Berlin:20251001T214500
SEQUENCE:1
END:VEVENT
BEGIN:VEVENT
DTSTAMP:20251224T122651Z
UID:120cd5c0-ced1-4e90-9a25-043faa489bc1
SUMMARY:Training - Herren 2
LOCATION:Laupheim\, Mehrzweckhalle
DTSTART;TZID=Europe/Berlin:20250919T201500
DTEND;TZID=Europe/Berlin:20250919T214500
RRULE:FREQ=WEEKLY
SEQUENCE:2
CREATED:20250904T214353Z
EXDATE;TZID=Europe/Berlin:20251226T201500
END:VEVENT
BEGIN:VEVENT
DTSTAMP:20251224T122651Z
UID:120cd5c0-ced1-4e90-9a25-043faa489bc1
RECURRENCE-ID;TZID=Europe/Berlin:20251003T201500
SUMMARY:Training - Herren 2
DTSTART;TZID=Europe/Berlin:20250929T190000
DTEND;TZID=Europe/Berlin:20250929T210000
SEQUENCE:1
END:VEVENT
END:VCALENDAR
