BEGIN:VCALENDAR
VERSION:2.0
CALSCALE:GREGORIAN
PRODID:-//SabreDAV//SabreDAV 4.6.0//EN
X-WR-CALNAME:Herren 2 - Spieltage
X-APPLE-CALENDAR-COLOR:#0E9A83
BEGIN:VTIMEZONE
TZID:Europe/Berlin
LAST-MODIFIED:20250410T142246Z
TZURL:https://www.tzurl.org/zoneinfo/Europe/Berlin
X-LIC-LOCATION:Europe/Berlin
X-PROLEPTIC-TZNAME:LMT
BEGIN:STANDARD
TZNAME:CET
TZOFFSETFROM:+005328
TZOFFSETTO:+0100
DTSTART:18930401T000000
END:STANDARD
BEGIN:STANDARD
TZNAME:CET
TZOFFSETFROM:+0200
TZOFFSETTO:+0100
DTSTART:19161001T010000
RDATE:19421102T030000
RDATE:19431004T030000
RDATE:19441002T030000
RDATE:19451118T030000
RDATE:19461007T030000
END:STANDARD
BEGIN:STANDARD
TZNAME:CET
TZOFFSETFROM:+0200
TZOFFSETTO:+0100
DTSTART:19170917T030000
RRULE:FREQ=YEARLY;UNTIL=19180916T010000Z;BYMONTH=9;BYDAY=3MO
END:STANDARD
BEGIN:STANDARD
TZNAME:CET
TZOFFSETFROM:+0100
TZOFFSETTO:+0100
DTSTART:19460101T000000
RDATE:19800101T000000
END:STANDARD
BEGIN:STANDARD
TZNAME:CET
TZOFFSETFROM:+0200
TZOFFSETTO:+0100
DTSTART:19471005T030000
RRULE:FREQ=YEARLY;UNTIL=19491002T010000Z;BYMONTH=10;BYDAY=1SU
END:STANDARD
BEGIN:STANDARD
TZNAME:CET
TZOFFSETFROM:+0200
TZOFFSETTO:+0100
DTSTART:19800928T030000
RRULE:FREQ=YEARLY;UNTIL=19950924T010000Z;BYMONTH=9;BYDAY=-1SU
END:STANDARD
BEGIN:STANDARD
TZNAME:CET
TZOFFSETFROM:+0200
TZOFFSETTO:+0100
DTSTART:19961027T030000
RRULE:FREQ=YEARLY;BYMONTH=10;BYDAY=-1SU
END:STANDARD
BEGIN:DAYLIGHT
TZNAME:CEST
TZOFFSETFROM:+0100
TZOFFSETTO:+0200
DTSTART:19160430T230000
RDATE:19400401T020000
RDATE:19430329T020000
RDATE:19460414T020000
RDATE:19470406T030000
RDATE:19480418T020000
RDATE:19490410T020000
RDATE:19800406T020000
END:DAYLIGHT
BEGIN:DAYLIGHT
TZNAME:CEST
TZOFFSETFROM:+0100
TZOFFSETTO:+0200
DTSTART:19170416T020000
RRULE:FREQ=YEARLY;UNTIL=19180415T010000Z;BYMONTH=4;BYDAY=3MO
END:DAYLIGHT
BEGIN:DAYLIGHT
TZNAME:CEST
TZOFFSETFROM:+0100
TZOFFSETTO:+0200
DTSTART:19440403T020000
RRULE:FREQ=YEARLY;UNTIL=19450402T010000Z;BYMONTH=4;BYDAY=1MO
END:DAYLIGHT
BEGIN:DAYLIGHT
TZNAME:CEMT
TZOFFSETFROM:+0200
TZOFFSETTO:+0300
DTSTART:19450524T020000
RDATE:19470511T030000
END:DAYLIGHT
BEGIN:DAYLIGHT
TZNAME:CEST
TZOFFSETFROM:+0300
TZOFFSETTO:+0200
DTSTART:19450924T030000
RDATE:19470629T030000
END:DAYLIGHT
BEGIN:DAYLIGHT
TZNAME:CEST
TZOFFSETFROM:+0100
TZOFFSETTO:+0200
DTSTART:19810329T020000
RRULE:FREQ=YEARLY;BYMONTH=3;BYDAY=-1SU
END:DAYLIGHT
END:VTIMEZONE
BEGIN:VEVENT
DTSTAMP:20250904T212353Z
UID:a0169909-9b0f-4b5c-b862-5e7aee8ea2a5
SUMMARY:VC Baustetten 2 vs. VfB Ulm 4\, 12.10.25\, BZK5H
DTSTART;TZID=Europe/Berlin:20251012T140000
DTEND;TZID=Europe/Berlin:20251012T160000
LOCATION:Mehrzweckhalle Laupheim\, Laubachweg 50\, 88471 Laupheim
TZID:Europe/Berlin
END:VEVENT
BEGIN:VEVENT
DTSTAMP:20250904T212353Z
UID:8fea2f20-103e-45dd-8de0-f97c3c83cee4
SUMMARY:VC Baustetten 2 vs. TG Biberach 2\, 12.10.25\, BZK5H
DTSTART;TZID=Europe/Berlin:20251012T160000
DTEND;TZID=Europe/Berlin:20251012T180000
LOCATION:Mehrzweckhalle Laupheim\, Laubachweg 50\, 88471 Laupheim
TZID:Europe/Berlin
END:VEVENT
BEGIN:VEVENT
DTSTAMP:20250904T212353Z
UID:91edf782-3a91-4727-9eae-7b941424ceec
SUMMARY:KSV Unterkirchberg 2 vs. VC Baustetten 2\, 26.10.25\, BZK5H
DTSTART;TZID=Europe/Berlin:20251026T160000
DTEND;TZID=Europe/Berlin:20251026T180000
LOCATION:Sporthalle Illerkirchberg\, Hauptstraße 90a\, 89171 Illerkirchber
 g
TZID:Europe/Berlin
END:VEVENT
BEGIN:VEVENT
DTSTAMP:20250904T212353Z
UID:ff0053ab-ae13-456a-af74-7ecf3be38073
SUMMARY:VSG Illertal III vs. VC Baustetten 2\, 08.11.25\, BZK5H
DTSTART;TZID=Europe/Berlin:20251108T160000
DTEND;TZID=Europe/Berlin:20251108T180000
LOCATION:ASV Halle\, Sportanlage 2\, 89287 Bellenberg
TZID:Europe/Berlin
END:VEVENT
BEGIN:VEVENT
DTSTAMP:20250904T212353Z
UID:274a2829-0fe3-4644-aab2-f4fc9c9b999f
SUMMARY:VfB Ulm 3 vs. VC Baustetten 2\, 23.11.25\, BZK5H
DTSTART;TZID=Europe/Berlin:20251123T110000
DTEND;TZID=Europe/Berlin:20251123T130000
TZID:Europe/Berlin
END:VEVENT
BEGIN:VEVENT
DTSTAMP:20250904T212353Z
UID:5623316b-66fd-41d0-92ec-0a14e3b9b79c
SUMMARY:VfB Ulm 4 vs. VC Baustetten 2\, 10.01.26\, BZK5H
DTSTART;TZID=Europe/Berlin:20260110T143000
DTEND;TZID=Europe/Berlin:20260110T163000
LOCATION:Sporthalle Eselsberg\, Weinbergweg 42\, 89075 Ulm
TZID:Europe/Berlin
END:VEVENT
BEGIN:VEVENT
DTSTAMP:20250904T212353Z
UID:22073e41-c63a-4f4e-ad8e-cae579ad7c6d
SUMMARY:VC Baustetten 2 vs. KSV Unterkirchberg 2\, 07.02.26\, BZK5H
DTSTART;TZID=Europe/Berlin:20260207T140000
DTEND;TZID=Europe/Berlin:20260207T160000
LOCATION:Mehrzweckhalle Laupheim\, Laubachweg 50\, 88471 Laupheim
TZID:Europe/Berlin
END:VEVENT
BEGIN:VEVENT
DTSTAMP:20250904T212353Z
UID:5d8a279c-ff47-4307-88e5-ac6f1e3442ab
SUMMARY:TG Biberach 2 vs. VC Baustetten 2\, 07.03.26\, BZK5H
DTSTART;TZID=Europe/Berlin:20260307T160000
DTEND;TZID=Europe/Berlin:20260307T180000
TZID:Europe/Berlin
END:VEVENT
BEGIN:VEVENT
DTSTAMP:20250904T212353Z
UID:90871272-28a4-406d-a3cf-0c53757f4c0a
SUMMARY:VC Baustetten 2 vs. VfB Ulm 3\, 22.03.26\, BZK5H
DTSTART;TZID=Europe/Berlin:20260322T150000
DTEND;TZID=Europe/Berlin:20260322T170000
LOCATION:Mehrzweckhalle Laupheim\, Laubachweg 50\, 88471 Laupheim
TZID:Europe/Berlin
END:VEVENT
BEGIN:VEVENT
DTSTAMP:20250904T212353Z
UID:2fc15694-7fc0-4652-9191-13e395ba941c
SUMMARY:VC Baustetten 2 vs. VSG Illertal III\, 22.03.26\, BZK5H
DTSTART;TZID=Europe/Berlin:20260322T170000
DTEND;TZID=Europe/Berlin:20260322T190000
LOCATION:Mehrzweckhalle Laupheim\, Laubachweg 50\, 88471 Laupheim
TZID:Europe/Berlin
END:VEVENT
END:VCALENDAR
