BEGIN:VCALENDAR
VERSION:2.0
CALSCALE:GREGORIAN
PRODID:-//SabreDAV//SabreDAV 4.6.0//EN
X-WR-CALNAME:Herren 1 - Spieltage
X-APPLE-CALENDAR-COLOR:#273445
BEGIN:VTIMEZONE
TZID:Europe/Berlin
LAST-MODIFIED:20250410T142246Z
TZURL:https://www.tzurl.org/zoneinfo/Europe/Berlin
X-LIC-LOCATION:Europe/Berlin
X-PROLEPTIC-TZNAME:LMT
BEGIN:STANDARD
TZNAME:CET
TZOFFSETFROM:+005328
TZOFFSETTO:+0100
DTSTART:18930401T000000
END:STANDARD
BEGIN:STANDARD
TZNAME:CET
TZOFFSETFROM:+0200
TZOFFSETTO:+0100
DTSTART:19161001T010000
RDATE:19421102T030000
RDATE:19431004T030000
RDATE:19441002T030000
RDATE:19451118T030000
RDATE:19461007T030000
END:STANDARD
BEGIN:STANDARD
TZNAME:CET
TZOFFSETFROM:+0200
TZOFFSETTO:+0100
DTSTART:19170917T030000
RRULE:FREQ=YEARLY;UNTIL=19180916T010000Z;BYMONTH=9;BYDAY=3MO
END:STANDARD
BEGIN:STANDARD
TZNAME:CET
TZOFFSETFROM:+0100
TZOFFSETTO:+0100
DTSTART:19460101T000000
RDATE:19800101T000000
END:STANDARD
BEGIN:STANDARD
TZNAME:CET
TZOFFSETFROM:+0200
TZOFFSETTO:+0100
DTSTART:19471005T030000
RRULE:FREQ=YEARLY;UNTIL=19491002T010000Z;BYMONTH=10;BYDAY=1SU
END:STANDARD
BEGIN:STANDARD
TZNAME:CET
TZOFFSETFROM:+0200
TZOFFSETTO:+0100
DTSTART:19800928T030000
RRULE:FREQ=YEARLY;UNTIL=19950924T010000Z;BYMONTH=9;BYDAY=-1SU
END:STANDARD
BEGIN:STANDARD
TZNAME:CET
TZOFFSETFROM:+0200
TZOFFSETTO:+0100
DTSTART:19961027T030000
RRULE:FREQ=YEARLY;BYMONTH=10;BYDAY=-1SU
END:STANDARD
BEGIN:DAYLIGHT
TZNAME:CEST
TZOFFSETFROM:+0100
TZOFFSETTO:+0200
DTSTART:19160430T230000
RDATE:19400401T020000
RDATE:19430329T020000
RDATE:19460414T020000
RDATE:19470406T030000
RDATE:19480418T020000
RDATE:19490410T020000
RDATE:19800406T020000
END:DAYLIGHT
BEGIN:DAYLIGHT
TZNAME:CEST
TZOFFSETFROM:+0100
TZOFFSETTO:+0200
DTSTART:19170416T020000
RRULE:FREQ=YEARLY;UNTIL=19180415T010000Z;BYMONTH=4;BYDAY=3MO
END:DAYLIGHT
BEGIN:DAYLIGHT
TZNAME:CEST
TZOFFSETFROM:+0100
TZOFFSETTO:+0200
DTSTART:19440403T020000
RRULE:FREQ=YEARLY;UNTIL=19450402T010000Z;BYMONTH=4;BYDAY=1MO
END:DAYLIGHT
BEGIN:DAYLIGHT
TZNAME:CEMT
TZOFFSETFROM:+0200
TZOFFSETTO:+0300
DTSTART:19450524T020000
RDATE:19470511T030000
END:DAYLIGHT
BEGIN:DAYLIGHT
TZNAME:CEST
TZOFFSETFROM:+0300
TZOFFSETTO:+0200
DTSTART:19450924T030000
RDATE:19470629T030000
END:DAYLIGHT
BEGIN:DAYLIGHT
TZNAME:CEST
TZOFFSETFROM:+0100
TZOFFSETTO:+0200
DTSTART:19810329T020000
RRULE:FREQ=YEARLY;BYMONTH=3;BYDAY=-1SU
END:DAYLIGHT
END:VTIMEZONE
BEGIN:VEVENT
DTSTAMP:20250904T212421Z
UID:c7222ff0-d828-4304-92ee-47ee4e0ee54f
SUMMARY:TSV Eningen vs. VC Baustetten\, 18.10.25\, OLH
DTSTART;TZID=Europe/Berlin:20251018T193000
DTEND;TZID=Europe/Berlin:20251018T213000
LOCATION:Arbachtalhalle\, Pfullinger Strasse 5\, 72800 Eningen unter Achalm
TZID:Europe/Berlin
END:VEVENT
BEGIN:VEVENT
DTSTAMP:20250904T212421Z
UID:25f14fc1-3447-4da9-a4ff-69b7f6b5efd4
SUMMARY:VC Baustetten vs. SG Volley Neckar-Teck\, 26.10.25\, OLH
DTSTART;TZID=Europe/Berlin:20251026T163000
DTEND;TZID=Europe/Berlin:20251026T183000
LOCATION:Mehrzweckhalle Laupheim\, Laubachweg 50\, 88471 Laupheim
TZID:Europe/Berlin
END:VEVENT
BEGIN:VEVENT
DTSTAMP:20250904T212421Z
UID:1233244f-1009-43ed-abbf-c2f7178b149e
SUMMARY:VC Baustetten vs. TSB Ravensburg\, 08.11.25\, OLH
DTSTART;TZID=Europe/Berlin:20251108T180000
DTEND;TZID=Europe/Berlin:20251108T200000
LOCATION:Mehrzweckhalle Laupheim\, Laubachweg 50\, 88471 Laupheim
TZID:Europe/Berlin
END:VEVENT
BEGIN:VEVENT
DTSTAMP:20250904T212421Z
UID:5438cb0b-63a3-4522-b317-8899bfa01cde
SUMMARY:ASV Botnang 2 vs. VC Baustetten\, 15.11.25\, OLH
DTSTART;TZID=Europe/Berlin:20251115T170000
DTEND;TZID=Europe/Berlin:20251115T190000
LOCATION:Ballsporthalle Botnang\, Kauffmannstr. 3\, 70195 Stuttgart
TZID:Europe/Berlin
END:VEVENT
BEGIN:VEVENT
DTSTAMP:20250904T212421Z
UID:68b1c16d-59c4-440e-8c81-c8e24db0fa15
SUMMARY:VC Baustetten vs. SV Fellbach\, 16.11.25\, OLH
DTSTART;TZID=Europe/Berlin:20251116T163000
DTEND;TZID=Europe/Berlin:20251116T183000
LOCATION:Mehrzweckhalle Laupheim\, Laubachweg 50\, 88471 Laupheim
TZID:Europe/Berlin
END:VEVENT
BEGIN:VEVENT
DTSTAMP:20250904T212421Z
UID:b52501ce-dbe5-4a88-87a8-722ffc426fcc
SUMMARY:VC Baustetten vs. TV Rottenburg 2\, 23.11.25\, OLH
DTSTART;TZID=Europe/Berlin:20251123T160000
DTEND;TZID=Europe/Berlin:20251123T180000
LOCATION:Mehrzweckhalle Laupheim\, Laubachweg 50\, 88471 Laupheim
TZID:Europe/Berlin
END:VEVENT
BEGIN:VEVENT
DTSTAMP:20250904T212421Z
UID:6e76d988-feb4-456d-aa4a-261a8b499dc8
SUMMARY:VfL Sindelfingen vs. VC Baustetten\, 06.12.25\, OLH
DTSTART;TZID=Europe/Berlin:20251206T200000
DTEND;TZID=Europe/Berlin:20251206T220000
TZID:Europe/Berlin
END:VEVENT
BEGIN:VEVENT
DTSTAMP:20250904T212421Z
UID:12cbb0a1-2db4-45ce-92b2-6ba5204e47ea
SUMMARY:VC Baustetten vs. SG SSC Tübingen/TV Rottenburg 3\, 13.12.25\, OLH
DTSTART;TZID=Europe/Berlin:20251213T180000
DTEND;TZID=Europe/Berlin:20251213T200000
LOCATION:Mehrzweckhalle Laupheim\, Laubachweg 50\, 88471 Laupheim
TZID:Europe/Berlin
END:VEVENT
BEGIN:VEVENT
DTSTAMP:20250904T212421Z
UID:f151ed3e-b42e-4d8c-b786-20aec990aa8f
SUMMARY:SV 1845 Esslingen vs. VC Baustetten\, 20.12.25\, OLH
DTSTART;TZID=Europe/Berlin:20251220T190000
DTEND;TZID=Europe/Berlin:20251220T210000
LOCATION:Sporthalle Weil\, Weilstraße 201\, 73733 Esslingen
TZID:Europe/Berlin
END:VEVENT
BEGIN:VEVENT
DTSTAMP:20250904T212421Z
UID:0ea3f234-eaf1-4880-8701-ceb2ee86e973
SUMMARY:TSB Ravensburg vs. VC Baustetten\, 10.01.26\, OLH
DTSTART;TZID=Europe/Berlin:20260110T200000
DTEND;TZID=Europe/Berlin:20260110T220000
LOCATION:Sporthalle bei den Gymnasien\, Zeppelinstrasse (bzw. Elisabethenst
 raße 6)\, 88212 Ravensburg
TZID:Europe/Berlin
END:VEVENT
BEGIN:VEVENT
DTSTAMP:20250904T212421Z
UID:5b824146-46b8-47c7-823e-9271e289c2a0
SUMMARY:VC Baustetten vs. ASV Botnang 2\, 17.01.26\, OLH
DTSTART;TZID=Europe/Berlin:20260117T180000
DTEND;TZID=Europe/Berlin:20260117T200000
LOCATION:Mehrzweckhalle Laupheim\, Laubachweg 50\, 88471 Laupheim
TZID:Europe/Berlin
END:VEVENT
BEGIN:VEVENT
DTSTAMP:20250904T212421Z
UID:fad35a7f-bc26-4133-bc98-92d8e134115c
SUMMARY:TV Rottenburg 2 vs. VC Baustetten\, 24.01.26\, OLH
DTSTART;TZID=Europe/Berlin:20260124T190000
DTEND;TZID=Europe/Berlin:20260124T210000
LOCATION:Otto-Locher-Halle\, Jahnstr. 37\, Jahnstr. 37\, 72108 Rottenburg
TZID:Europe/Berlin
END:VEVENT
BEGIN:VEVENT
DTSTAMP:20250904T212421Z
UID:d03d4227-b2f4-41b0-b20e-ebac7ea36ee9
SUMMARY:VC Baustetten vs. VfL Sindelfingen\, 07.02.26\, OLH
DTSTART;TZID=Europe/Berlin:20260207T180000
DTEND;TZID=Europe/Berlin:20260207T200000
LOCATION:Mehrzweckhalle Laupheim\, Laubachweg 50\, 88471 Laupheim
TZID:Europe/Berlin
END:VEVENT
BEGIN:VEVENT
DTSTAMP:20250904T212421Z
UID:65643e75-b631-422c-a275-ae04ff3d8768
SUMMARY:SG SSC Tübingen/TV Rottenburg 3 vs. VC Baustetten\, 22.02.26\, OLH
DTSTART;TZID=Europe/Berlin:20260222T150000
DTEND;TZID=Europe/Berlin:20260222T170000
LOCATION:Sporthalle Waldhäuser-Ost (Geschwister-Scholl-Schu\, Berliner Rin
 g 33\, 72076 Tübingen
TZID:Europe/Berlin
END:VEVENT
BEGIN:VEVENT
DTSTAMP:20250904T212421Z
UID:84d8d41c-e671-4302-b566-2c17770b4ace
SUMMARY:VC Baustetten vs. SV 1845 Esslingen\, 01.03.26\, OLH
DTSTART;TZID=Europe/Berlin:20260301T160000
DTEND;TZID=Europe/Berlin:20260301T180000
LOCATION:Mehrzweckhalle Laupheim\, Laubachweg 50\, 88471 Laupheim
TZID:Europe/Berlin
END:VEVENT
BEGIN:VEVENT
DTSTAMP:20250904T212421Z
UID:8ba8a28d-30ff-4f18-aab9-00b56b51ca3d
SUMMARY:SV Fellbach vs. VC Baustetten\, 07.03.26\, OLH
DTSTART;TZID=Europe/Berlin:20260307T163000
DTEND;TZID=Europe/Berlin:20260307T183000
LOCATION:Gäuäcker Sporthalle I\, Bühlstr. 141\, 70736 Fellbach
TZID:Europe/Berlin
END:VEVENT
BEGIN:VEVENT
DTSTAMP:20250904T212421Z
UID:56f22084-23cf-4310-a1f4-3083b2c9c3d0
SUMMARY:VC Baustetten vs. TSV Eningen\, 14.03.26\, OLH
DTSTART;TZID=Europe/Berlin:20260314T180000
DTEND;TZID=Europe/Berlin:20260314T200000
LOCATION:Mehrzweckhalle Laupheim\, Laubachweg 50\, 88471 Laupheim
TZID:Europe/Berlin
END:VEVENT
BEGIN:VEVENT
DTSTAMP:20250904T212421Z
UID:7b2c4a97-60ff-4772-a1fe-a9904297d9b7
SUMMARY:SG Volley Neckar-Teck vs. VC Baustetten\, 21.03.26\, OLH
DTSTART;TZID=Europe/Berlin:20260321T193000
DTEND;TZID=Europe/Berlin:20260321T213000
LOCATION:Sporthalle Dettingen\, Rauberweg 10\, 73265 Dettingen/Teck
TZID:Europe/Berlin
END:VEVENT
END:VCALENDAR
