BEGIN:VCALENDAR
VERSION:2.0
CALSCALE:GREGORIAN
PRODID:-//SabreDAV//SabreDAV 4.6.0//EN
X-WR-CALNAME:Damen 2 - Spieltage
X-APPLE-CALENDAR-COLOR:#7239B3
BEGIN:VTIMEZONE
TZID:Europe/Berlin
LAST-MODIFIED:20250410T142246Z
TZURL:https://www.tzurl.org/zoneinfo/Europe/Berlin
X-LIC-LOCATION:Europe/Berlin
X-PROLEPTIC-TZNAME:LMT
BEGIN:STANDARD
TZNAME:CET
TZOFFSETFROM:+005328
TZOFFSETTO:+0100
DTSTART:18930401T000000
END:STANDARD
BEGIN:STANDARD
TZNAME:CET
TZOFFSETFROM:+0200
TZOFFSETTO:+0100
DTSTART:19161001T010000
RDATE:19421102T030000
RDATE:19431004T030000
RDATE:19441002T030000
RDATE:19451118T030000
RDATE:19461007T030000
END:STANDARD
BEGIN:STANDARD
TZNAME:CET
TZOFFSETFROM:+0200
TZOFFSETTO:+0100
DTSTART:19170917T030000
RRULE:FREQ=YEARLY;UNTIL=19180916T010000Z;BYMONTH=9;BYDAY=3MO
END:STANDARD
BEGIN:STANDARD
TZNAME:CET
TZOFFSETFROM:+0100
TZOFFSETTO:+0100
DTSTART:19460101T000000
RDATE:19800101T000000
END:STANDARD
BEGIN:STANDARD
TZNAME:CET
TZOFFSETFROM:+0200
TZOFFSETTO:+0100
DTSTART:19471005T030000
RRULE:FREQ=YEARLY;UNTIL=19491002T010000Z;BYMONTH=10;BYDAY=1SU
END:STANDARD
BEGIN:STANDARD
TZNAME:CET
TZOFFSETFROM:+0200
TZOFFSETTO:+0100
DTSTART:19800928T030000
RRULE:FREQ=YEARLY;UNTIL=19950924T010000Z;BYMONTH=9;BYDAY=-1SU
END:STANDARD
BEGIN:STANDARD
TZNAME:CET
TZOFFSETFROM:+0200
TZOFFSETTO:+0100
DTSTART:19961027T030000
RRULE:FREQ=YEARLY;BYMONTH=10;BYDAY=-1SU
END:STANDARD
BEGIN:DAYLIGHT
TZNAME:CEST
TZOFFSETFROM:+0100
TZOFFSETTO:+0200
DTSTART:19160430T230000
RDATE:19400401T020000
RDATE:19430329T020000
RDATE:19460414T020000
RDATE:19470406T030000
RDATE:19480418T020000
RDATE:19490410T020000
RDATE:19800406T020000
END:DAYLIGHT
BEGIN:DAYLIGHT
TZNAME:CEST
TZOFFSETFROM:+0100
TZOFFSETTO:+0200
DTSTART:19170416T020000
RRULE:FREQ=YEARLY;UNTIL=19180415T010000Z;BYMONTH=4;BYDAY=3MO
END:DAYLIGHT
BEGIN:DAYLIGHT
TZNAME:CEST
TZOFFSETFROM:+0100
TZOFFSETTO:+0200
DTSTART:19440403T020000
RRULE:FREQ=YEARLY;UNTIL=19450402T010000Z;BYMONTH=4;BYDAY=1MO
END:DAYLIGHT
BEGIN:DAYLIGHT
TZNAME:CEMT
TZOFFSETFROM:+0200
TZOFFSETTO:+0300
DTSTART:19450524T020000
RDATE:19470511T030000
END:DAYLIGHT
BEGIN:DAYLIGHT
TZNAME:CEST
TZOFFSETFROM:+0300
TZOFFSETTO:+0200
DTSTART:19450924T030000
RDATE:19470629T030000
END:DAYLIGHT
BEGIN:DAYLIGHT
TZNAME:CEST
TZOFFSETFROM:+0100
TZOFFSETTO:+0200
DTSTART:19810329T020000
RRULE:FREQ=YEARLY;BYMONTH=3;BYDAY=-1SU
END:DAYLIGHT
END:VTIMEZONE
BEGIN:VEVENT
DTSTAMP:20250904T205849Z
UID:95750256-63c4-4722-9b27-1a27159e7ada
SUMMARY:TG Biberach 4 vs. VC Baustetten 2\, 11.10.25\, BZL5D
DTSTART;TZID=Europe/Berlin:20251011T160000
DTEND;TZID=Europe/Berlin:20251011T180000
LOCATION:Wilhelm-Leger Halle\, Hans-Liebherr-Str./Wilhelm Leger. Str.\, 884
 00 Biberach
TZID:Europe/Berlin
END:VEVENT
BEGIN:VEVENT
DTSTAMP:20250904T205849Z
UID:0c32d796-340a-4075-aa93-78e2378f73d7
SUMMARY:VC Baustetten 2 vs. TSV Bad Saulgau\, 26.10.25\, BZL5D
DTSTART;TZID=Europe/Berlin:20251026T103000
DTEND;TZID=Europe/Berlin:20251026T123000
LOCATION:Mehrzweckhalle Laupheim\, Laubachweg 50\, 88471 Laupheim
TZID:Europe/Berlin
END:VEVENT
BEGIN:VEVENT
DTSTAMP:20250904T205849Z
UID:c83d069e-316d-479a-bb0d-7d4f8f6a02f7
SUMMARY:VC Baustetten 2 vs. SV Unlingen\, 26.10.25\, BZL5D
DTSTART;TZID=Europe/Berlin:20251026T123000
DTEND;TZID=Europe/Berlin:20251026T143000
LOCATION:Mehrzweckhalle Laupheim\, Laubachweg 50\, 88471 Laupheim
TZID:Europe/Berlin
END:VEVENT
BEGIN:VEVENT
DTSTAMP:20250904T205849Z
UID:ba70775f-267a-4ed6-9978-314bb0e6bb99
SUMMARY:VfB Friedrichshafen vs. VC Baustetten 2\, 08.11.25\, BZL5D
DTSTART;TZID=Europe/Berlin:20251108T170000
DTEND;TZID=Europe/Berlin:20251108T190000
LOCATION:VfB-Sporthalle\, Teuringerstrasse 2\, 88045 Friedrichshafen
TZID:Europe/Berlin
END:VEVENT
BEGIN:VEVENT
DTSTAMP:20250904T205849Z
UID:50bb2bf1-ee7b-4062-9357-a036d3af4212
SUMMARY:TSV Blaustein 2 vs. VC Baustetten 2\, 22.11.25\, BZL5D
DTSTART;TZID=Europe/Berlin:20251122T160000
DTEND;TZID=Europe/Berlin:20251122T180000
LOCATION:Blautalhalle\, Haldenweg 3\, 89134 Blaustein
TZID:Europe/Berlin
END:VEVENT
BEGIN:VEVENT
DTSTAMP:20250904T205849Z
UID:d31bd842-63db-453f-bece-3b0e3002d8f1
SUMMARY:BSG Immenstaad vs. VC Baustetten 2\, 06.12.25\, BZL5D
DTSTART;TZID=Europe/Berlin:20251206T150000
DTEND;TZID=Europe/Berlin:20251206T170000
LOCATION:Sporthalle Immenstaad (Übergangshalle)\, Linzgauweg 1\, 88090 Imm
 enstaad
TZID:Europe/Berlin
END:VEVENT
BEGIN:VEVENT
DTSTAMP:20250904T205849Z
UID:993c6efa-e514-406e-a272-a63db008ae2d
SUMMARY:VC Baustetten 2 vs. VSG Illertal\, 20.12.25\, BZL5D
DTSTART;TZID=Europe/Berlin:20251220T140000
DTEND;TZID=Europe/Berlin:20251220T160000
LOCATION:Mehrzweckhalle Laupheim\, Laubachweg 50\, 88471 Laupheim
TZID:Europe/Berlin
END:VEVENT
BEGIN:VEVENT
DTSTAMP:20250904T205849Z
UID:2e80e868-ffec-4ff3-adce-4cfb852c1c8e
SUMMARY:VC Baustetten 2 vs. SV Eglofs 2\, 20.12.25\, BZL5D
DTSTART;TZID=Europe/Berlin:20251220T160000
DTEND;TZID=Europe/Berlin:20251220T180000
LOCATION:Mehrzweckhalle Laupheim\, Laubachweg 50\, 88471 Laupheim
TZID:Europe/Berlin
END:VEVENT
BEGIN:VEVENT
DTSTAMP:20250904T205849Z
UID:aa48245d-d0ae-4dde-8385-91f428fb292d
SUMMARY:SV Unlingen vs. VC Baustetten 2\, 10.01.26\, BZL5D
DTSTART;TZID=Europe/Berlin:20260110T160000
DTEND;TZID=Europe/Berlin:20260110T180000
LOCATION:Gemeindehalle Unlingen\, Daugendorfer Str. 39\, 88527 Unlingen
TZID:Europe/Berlin
END:VEVENT
BEGIN:VEVENT
DTSTAMP:20250904T205849Z
UID:2624d062-3db0-4e5b-bc85-03ed615e59f7
SUMMARY:VC Baustetten 2 vs. VfB Friedrichshafen\, 25.01.26\, BZL5D
DTSTART;TZID=Europe/Berlin:20260125T130000
DTEND;TZID=Europe/Berlin:20260125T150000
LOCATION:Mehrzweckhalle Laupheim\, Laubachweg 50\, 88471 Laupheim
TZID:Europe/Berlin
END:VEVENT
BEGIN:VEVENT
DTSTAMP:20250904T205849Z
UID:013ddf6e-acb3-4dad-8705-ddc716e49a69
SUMMARY:VC Baustetten 2 vs. TG Biberach 4\, 25.01.26\, BZL5D
DTSTART;TZID=Europe/Berlin:20260125T150000
DTEND;TZID=Europe/Berlin:20260125T170000
LOCATION:Mehrzweckhalle Laupheim\, Laubachweg 50\, 88471 Laupheim
TZID:Europe/Berlin
END:VEVENT
BEGIN:VEVENT
DTSTAMP:20250904T205849Z
UID:88f10339-a72b-4620-8a0e-2442de38052d
SUMMARY:TSV Bad Saulgau vs. VC Baustetten 2\, 08.02.26\, BZL5D
DTSTART;TZID=Europe/Berlin:20260208T110000
DTEND;TZID=Europe/Berlin:20260208T130000
LOCATION:Sporthalle im Kronried\, Schützenstraße 63\, 88348 Bad Saulgau
TZID:Europe/Berlin
END:VEVENT
BEGIN:VEVENT
DTSTAMP:20250904T205849Z
UID:cf862c4c-fec6-4111-9f51-ad01c5918fdc
SUMMARY:VSG Illertal vs. VC Baustetten 2\, 22.02.26\, BZL5D
DTSTART;TZID=Europe/Berlin:20260222T130000
DTEND;TZID=Europe/Berlin:20260222T150000
LOCATION:ASV Halle\, Sportanlage 2\, 89287 Bellenberg
TZID:Europe/Berlin
END:VEVENT
BEGIN:VEVENT
DTSTAMP:20250904T205849Z
UID:84cb894d-fd2e-49a7-b943-b0ac404d8099
SUMMARY:SV Eglofs 2 vs. VC Baustetten 2\, 07.03.26\, BZL5D
DTSTART;TZID=Europe/Berlin:20260307T160000
DTEND;TZID=Europe/Berlin:20260307T180000
LOCATION:Turnhalle Eglofs\, Eisenharzer Weg\, 88260 Argenbühl
TZID:Europe/Berlin
END:VEVENT
BEGIN:VEVENT
DTSTAMP:20250904T205849Z
UID:35175b36-ff6b-4163-a1bd-88dde4b5ca19
SUMMARY:VC Baustetten 2 vs. BSG Immenstaad\, 21.03.26\, BZL5D
DTSTART;TZID=Europe/Berlin:20260321T160000
DTEND;TZID=Europe/Berlin:20260321T180000
LOCATION:Mehrzweckhalle Laupheim\, Laubachweg 50\, 88471 Laupheim
TZID:Europe/Berlin
END:VEVENT
BEGIN:VEVENT
DTSTAMP:20250904T205849Z
UID:d8d8bfdd-fd47-4493-ae5f-f29d734bdbd7
SUMMARY:VC Baustetten 2 vs. TSV Blaustein 2\, 21.03.26\, BZL5D
DTSTART;TZID=Europe/Berlin:20260321T180000
DTEND;TZID=Europe/Berlin:20260321T200000
LOCATION:Mehrzweckhalle Laupheim\, Laubachweg 50\, 88471 Laupheim
TZID:Europe/Berlin
END:VEVENT
END:VCALENDAR
