BEGIN:VCALENDAR
VERSION:2.0
CALSCALE:GREGORIAN
PRODID:-//SabreDAV//SabreDAV 4.6.0//EN
X-WR-CALNAME:Damen 1
X-APPLE-CALENDAR-COLOR:#FFE16B
BEGIN:VTIMEZONE
TZID:Europe/Berlin
X-LIC-LOCATION:Europe/Berlin
BEGIN:DAYLIGHT
TZNAME:CEST
TZOFFSETFROM:+0100
TZOFFSETTO:+0200
DTSTART:19810329T020000
RRULE:FREQ=YEARLY;UNTIL=20370329T010000Z;BYDAY=-1SU;BYMONTH=3
END:DAYLIGHT
BEGIN:STANDARD
TZNAME:CET
TZOFFSETFROM:+0200
TZOFFSETTO:+0100
DTSTART:19961027T030000
RRULE:FREQ=YEARLY;UNTIL=20361026T010000Z;BYDAY=-1SU;BYMONTH=10
END:STANDARD
END:VTIMEZONE
BEGIN:VEVENT
CREATED:20230908T074541Z
LAST-MODIFIED:20230908T074541Z
DTSTAMP:20230908T074506Z
UID:c1c4ee77-a42c-495c-a079-a6fffc562be3
SUMMARY:SG SV Ochsenhausen/TG Biberach 2 vs. VC Baustetten\, 13.01.24\, VL2
 D
DTSTART;TZID=Europe/Berlin:20240113T140000
DTEND;TZID=Europe/Berlin:20240113T160000
LOCATION:Wilhelm-Leger-Halle\, Hans-Liebherr-Straße\, 88400 Biberach
TZID:Europe/Berlin
END:VEVENT
BEGIN:VEVENT
CREATED:20230908T074541Z
LAST-MODIFIED:20230908T074541Z
DTSTAMP:20230908T074506Z
UID:00d1cbc7-7d86-47b3-8b99-b3f78ab6f0f5
SUMMARY:SC Weiler/F. vs. VC Baustetten\, 28.01.24\, VL2D
DTSTART;TZID=Europe/Berlin:20240128T120000
DTEND;TZID=Europe/Berlin:20240128T140000
LOCATION:Hardtschulhalle\, Zeppelinstrasse 3\, 73061 Ebersbach/Fils
TZID:Europe/Berlin
END:VEVENT
BEGIN:VEVENT
CREATED:20230908T074541Z
LAST-MODIFIED:20230908T074541Z
DTSTAMP:20230908T074506Z
UID:8ec62301-f044-413d-bfed-b57be3bad4c3
SUMMARY:VC Baustetten vs. FV Tübinger Modell 2\, 18.02.24\, VL2D
DTSTART;TZID=Europe/Berlin:20240218T140000
DTEND;TZID=Europe/Berlin:20240218T160000
LOCATION:Mehrzweckhalle\, Laubachweg 50\, 88471 Laupheim
TZID:Europe/Berlin
END:VEVENT
BEGIN:VEVENT
CREATED:20230908T074542Z
LAST-MODIFIED:20230908T074542Z
DTSTAMP:20230908T074506Z
UID:42e435f7-5dc2-472f-9d37-8e585221d44a
SUMMARY:VC Baustetten vs. SV Pfrondorf\, 18.02.24\, VL2D
DTSTART;TZID=Europe/Berlin:20240218T150000
DTEND;TZID=Europe/Berlin:20240218T170000
LOCATION:Mehrzweckhalle\, Laubachweg 50\, 88471 Laupheim
TZID:Europe/Berlin
END:VEVENT
BEGIN:VEVENT
CREATED:20230908T074542Z
LAST-MODIFIED:20230908T074542Z
DTSTAMP:20230908T074506Z
UID:19fe4142-f1f2-4c43-9185-0ea32bd8dca6
SUMMARY:TSV Blaustein vs. VC Baustetten\, 24.02.24\, VL2D
DTSTART;TZID=Europe/Berlin:20240224T140000
DTEND;TZID=Europe/Berlin:20240224T160000
LOCATION:Blautalhalle\, Haldenweg 3\, 89134 Blaustein
TZID:Europe/Berlin
END:VEVENT
BEGIN:VEVENT
CREATED:20230908T074542Z
LAST-MODIFIED:20230908T074542Z
DTSTAMP:20230908T074506Z
UID:ab071682-a37a-4ff0-9bf5-8c6f3d69bf7d
SUMMARY:VC Baustetten vs. SG MADS Ostalb II\, 10.03.24\, VL2D
DTSTART;TZID=Europe/Berlin:20240310T140000
DTEND;TZID=Europe/Berlin:20240310T160000
LOCATION:Mehrzweckhalle\, Laubachweg 50\, 88471 Laupheim
TZID:Europe/Berlin
END:VEVENT
BEGIN:VEVENT
CREATED:20230908T074542Z
LAST-MODIFIED:20230908T074542Z
DTSTAMP:20230908T074506Z
UID:7695dcff-40cf-439a-9d80-8d50e8f140ab
SUMMARY:VC Baustetten vs. SG MADS Ostalb\, 10.03.24\, VL2D
DTSTART;TZID=Europe/Berlin:20240310T150000
DTEND;TZID=Europe/Berlin:20240310T170000
LOCATION:Mehrzweckhalle\, Laubachweg 50\, 88471 Laupheim
TZID:Europe/Berlin
END:VEVENT
BEGIN:VEVENT
CREATED:20230908T074542Z
LAST-MODIFIED:20230908T074542Z
DTSTAMP:20230908T074506Z
UID:588d9fe7-23db-43b5-b4f7-4848321caa9b
SUMMARY:SV Eglofs vs. VC Baustetten\, 23.03.24\, VL2D
DTSTART;TZID=Europe/Berlin:20240323T150000
DTEND;TZID=Europe/Berlin:20240323T170000
LOCATION:Turnhalle Eglofs\, Eisenharzer Weg\, 88260 Argenbühl
TZID:Europe/Berlin
END:VEVENT
END:VCALENDAR
