BEGIN:VCALENDAR
VERSION:2.0
CALSCALE:GREGORIAN
PRODID:-//SabreDAV//SabreDAV 4.6.0//EN
X-WR-CALNAME:Damen 1 - Training
X-APPLE-CALENDAR-COLOR:#F9C440
BEGIN:VTIMEZONE
TZID:Europe/Berlin
X-TZINFO:Europe/Berlin[2024b]
BEGIN:STANDARD
TZOFFSETTO:+010000
TZOFFSETFROM:+005328
TZNAME:Europe/Berlin(STD)
DTSTART:18930401T000000
RDATE:18930401T000000
END:STANDARD
BEGIN:STANDARD
TZOFFSETTO:+010000
TZOFFSETFROM:+020000
TZNAME:Europe/Berlin(STD)
DTSTART:19161001T010000
RDATE:19161001T010000
END:STANDARD
BEGIN:STANDARD
TZOFFSETTO:+010000
TZOFFSETFROM:+020000
TZNAME:Europe/Berlin(STD)
DTSTART:19170917T030000
RRULE:FREQ=YEARLY;BYMONTH=9;BYDAY=3MO;UNTIL=19180916T030000
END:STANDARD
BEGIN:STANDARD
TZOFFSETTO:+010000
TZOFFSETFROM:+020000
TZNAME:Europe/Berlin(STD)
DTSTART:19421102T030000
RDATE:19421102T030000
END:STANDARD
BEGIN:STANDARD
TZOFFSETTO:+010000
TZOFFSETFROM:+020000
TZNAME:Europe/Berlin(STD)
DTSTART:19431004T030000
RRULE:FREQ=YEARLY;BYMONTH=10;BYDAY=1MO;UNTIL=19441002T030000
END:STANDARD
BEGIN:STANDARD
TZOFFSETTO:+010000
TZOFFSETFROM:+020000
TZNAME:Europe/Berlin(STD)
DTSTART:19451118T030000
RDATE:19451118T030000
END:STANDARD
BEGIN:STANDARD
TZOFFSETTO:+010000
TZOFFSETFROM:+020000
TZNAME:Europe/Berlin(STD)
DTSTART:19461007T030000
RDATE:19461007T030000
END:STANDARD
BEGIN:STANDARD
TZOFFSETTO:+010000
TZOFFSETFROM:+020000
TZNAME:Europe/Berlin(STD)
DTSTART:19471005T030000
RRULE:FREQ=YEARLY;BYMONTH=10;BYDAY=1SU;UNTIL=19491002T030000
END:STANDARD
BEGIN:STANDARD
TZOFFSETTO:+010000
TZOFFSETFROM:+020000
TZNAME:Europe/Berlin(STD)
DTSTART:19800928T030000
RRULE:FREQ=YEARLY;BYMONTH=9;BYDAY=-1SU;UNTIL=19950924T030000
END:STANDARD
BEGIN:STANDARD
TZOFFSETTO:+010000
TZOFFSETFROM:+020000
TZNAME:Europe/Berlin(STD)
DTSTART:19961027T030000
RDATE:19961027T030000
END:STANDARD
BEGIN:STANDARD
TZOFFSETTO:+010000
TZOFFSETFROM:+020000
TZNAME:(STD)
DTSTART:19971026T030000
RRULE:FREQ=YEARLY;BYMONTH=10;BYDAY=-1SU
END:STANDARD
BEGIN:DAYLIGHT
TZOFFSETTO:+020000
TZOFFSETFROM:+010000
TZNAME:Europe/Berlin(DST)
DTSTART:19160430T230000
RDATE:19160430T230000
END:DAYLIGHT
BEGIN:DAYLIGHT
TZOFFSETTO:+020000
TZOFFSETFROM:+010000
TZNAME:Europe/Berlin(DST)
DTSTART:19170416T020000
RRULE:FREQ=YEARLY;BYMONTH=4;BYDAY=3MO;UNTIL=19180415T020000
END:DAYLIGHT
BEGIN:DAYLIGHT
TZOFFSETTO:+020000
TZOFFSETFROM:+010000
TZNAME:Europe/Berlin(DST)
DTSTART:19400401T020000
RDATE:19400401T020000
END:DAYLIGHT
BEGIN:DAYLIGHT
TZOFFSETTO:+020000
TZOFFSETFROM:+010000
TZNAME:Europe/Berlin(DST)
DTSTART:19430329T020000
RDATE:19430329T020000
END:DAYLIGHT
BEGIN:DAYLIGHT
TZOFFSETTO:+020000
TZOFFSETFROM:+010000
TZNAME:Europe/Berlin(DST)
DTSTART:19440403T020000
RRULE:FREQ=YEARLY;BYMONTH=4;BYDAY=1MO;UNTIL=19450402T020000
END:DAYLIGHT
BEGIN:DAYLIGHT
TZOFFSETTO:+030000
TZOFFSETFROM:+020000
TZNAME:Europe/Berlin(DST)
DTSTART:19450524T020000
RDATE:19450524T020000
END:DAYLIGHT
BEGIN:DAYLIGHT
TZOFFSETTO:+020000
TZOFFSETFROM:+030000
TZNAME:Europe/Berlin(DST)
DTSTART:19450924T030000
RDATE:19450924T030000
END:DAYLIGHT
BEGIN:DAYLIGHT
TZOFFSETTO:+020000
TZOFFSETFROM:+010000
TZNAME:Europe/Berlin(DST)
DTSTART:19460414T020000
RDATE:19460414T020000
END:DAYLIGHT
BEGIN:DAYLIGHT
TZOFFSETTO:+020000
TZOFFSETFROM:+010000
TZNAME:Europe/Berlin(DST)
DTSTART:19470406T030000
RDATE:19470406T030000
END:DAYLIGHT
BEGIN:DAYLIGHT
TZOFFSETTO:+030000
TZOFFSETFROM:+020000
TZNAME:Europe/Berlin(DST)
DTSTART:19470511T030000
RDATE:19470511T030000
END:DAYLIGHT
BEGIN:DAYLIGHT
TZOFFSETTO:+020000
TZOFFSETFROM:+030000
TZNAME:Europe/Berlin(DST)
DTSTART:19470629T030000
RDATE:19470629T030000
END:DAYLIGHT
BEGIN:DAYLIGHT
TZOFFSETTO:+020000
TZOFFSETFROM:+010000
TZNAME:Europe/Berlin(DST)
DTSTART:19480418T020000
RDATE:19480418T020000
END:DAYLIGHT
BEGIN:DAYLIGHT
TZOFFSETTO:+020000
TZOFFSETFROM:+010000
TZNAME:Europe/Berlin(DST)
DTSTART:19490410T020000
RDATE:19490410T020000
END:DAYLIGHT
BEGIN:DAYLIGHT
TZOFFSETTO:+020000
TZOFFSETFROM:+010000
TZNAME:Europe/Berlin(DST)
DTSTART:19800406T020000
RDATE:19800406T020000
END:DAYLIGHT
BEGIN:DAYLIGHT
TZOFFSETTO:+020000
TZOFFSETFROM:+010000
TZNAME:Europe/Berlin(DST)
DTSTART:19810329T020000
RRULE:FREQ=YEARLY;BYMONTH=3;BYDAY=-1SU;UNTIL=19960331T020000
END:DAYLIGHT
BEGIN:DAYLIGHT
TZOFFSETTO:+020000
TZOFFSETFROM:+010000
TZNAME:(DST)
DTSTART:19970330T020000
RRULE:FREQ=YEARLY;BYMONTH=3;BYDAY=-1SU
END:DAYLIGHT
END:VTIMEZONE
BEGIN:VEVENT
CREATED:20250904T213053Z
LAST-MODIFIED:20250904T213312Z
DTSTAMP:20250904T213312Z
UID:0a660e5e-4ee5-423e-973c-2dc594522681
SUMMARY:Training - Damen 1
RRULE:FREQ=WEEKLY
DTSTART;TZID=Europe/Berlin:20250916T201500
DTEND;TZID=Europe/Berlin:20250916T214500
TRANSP:OPAQUE
LOCATION:Baustetten\, Mehrzweckhalle
END:VEVENT
BEGIN:VEVENT
CREATED:20250904T213347Z
LAST-MODIFIED:20250904T213435Z
DTSTAMP:20250904T213435Z
UID:edcd40bb-a3aa-47b4-9520-eaf7eae1ebf3
SUMMARY:Training - Damen 1
RRULE:FREQ=WEEKLY
DTSTART;TZID=Europe/Berlin:20250918T201500
DTEND;TZID=Europe/Berlin:20250918T214500
TRANSP:OPAQUE
LOCATION:Laupheim\, Mehrzweckhalle
END:VEVENT
END:VCALENDAR
